BEGIN:VCALENDAR
VERSION:2.0
PRODID:-//Art of Resistance - ECPv6.15.17.1//NONSGML v1.0//EN
CALSCALE:GREGORIAN
METHOD:PUBLISH
X-ORIGINAL-URL:https://artofresistance.net
X-WR-CALDESC:Events for Art of Resistance
REFRESH-INTERVAL;VALUE=DURATION:PT1H
X-Robots-Tag:noindex
X-PUBLISHED-TTL:PT1H
BEGIN:VTIMEZONE
TZID:America/Los_Angeles
BEGIN:DAYLIGHT
TZOFFSETFROM:-0800
TZOFFSETTO:-0700
TZNAME:PDT
DTSTART:20240310T100000
END:DAYLIGHT
BEGIN:STANDARD
TZOFFSETFROM:-0700
TZOFFSETTO:-0800
TZNAME:PST
DTSTART:20241103T090000
END:STANDARD
BEGIN:DAYLIGHT
TZOFFSETFROM:-0800
TZOFFSETTO:-0700
TZNAME:PDT
DTSTART:20250309T100000
END:DAYLIGHT
BEGIN:STANDARD
TZOFFSETFROM:-0700
TZOFFSETTO:-0800
TZNAME:PST
DTSTART:20251102T090000
END:STANDARD
BEGIN:DAYLIGHT
TZOFFSETFROM:-0800
TZOFFSETTO:-0700
TZNAME:PDT
DTSTART:20260308T100000
END:DAYLIGHT
BEGIN:STANDARD
TZOFFSETFROM:-0700
TZOFFSETTO:-0800
TZNAME:PST
DTSTART:20261101T090000
END:STANDARD
END:VTIMEZONE
BEGIN:VEVENT
DTSTART;TZID=America/Los_Angeles:20251121T000000
DTEND;TZID=America/Los_Angeles:20251122T000000
DTSTAMP:20260421T230203
CREATED:20251113T063500Z
LAST-MODIFIED:20251113T064453Z
UID:249-1763683200-1763769600@artofresistance.net
SUMMARY:Fall of Freedom
DESCRIPTION:This free event addresses the challenging issues facing our country and the world through art\, music\, poetry\, and spoken word. Join us for a time to meet allies\, hear\, see\, and participate in creating artworks. Nov. 21 from 7-9 pm and Nov. 22 from 4-6 pm. \n 
URL:https://artofresistance.net/event/fall-of-freedom/
LOCATION:Sacramento Poetry Center\, 1719 25th St.\, Sacramento
END:VEVENT
END:VCALENDAR